BEGIN:VCALENDAR
VERSION:2.0
PRODID:-//Centro educativo Tehui - ECPv6.15.13.1//NONSGML v1.0//EN
CALSCALE:GREGORIAN
METHOD:PUBLISH
X-WR-CALNAME:Centro educativo Tehui
X-ORIGINAL-URL:https://tehui.edu.do
X-WR-CALDESC:Eventos para Centro educativo Tehui
REFRESH-INTERVAL;VALUE=DURATION:PT1H
X-Robots-Tag:noindex
X-PUBLISHED-TTL:PT1H
BEGIN:VTIMEZONE
TZID:America/Santo_Domingo
BEGIN:STANDARD
TZOFFSETFROM:-0400
TZOFFSETTO:-0400
TZNAME:AST
DTSTART:20230101T000000
END:STANDARD
END:VTIMEZONE
BEGIN:VEVENT
DTSTART;VALUE=DATE:20240501
DTEND;VALUE=DATE:20240601
DTSTAMP:20260421T120234
CREATED:20240613T075525Z
LAST-MODIFIED:20240613T100122Z
UID:2234-1714521600-1717199999@tehui.edu.do
SUMMARY:Valor del mes: Confianza
DESCRIPTION:En TEHUI\, consideramos que la confianza es esencial para el éxito académico y personal de nuestros estudiantes. Durante el mes de mayo\, nos enfocamos en inculcar el valor de la confianza en todas nuestras actividades y relaciones. \nLa confianza no solo implica creer en uno mismo\, sino también confiar en los demás y ser dignos de confianza. Un ambiente de confianza nos permite trabajar juntos de manera efectiva\, fortalecer nuestras relaciones y crear una comunidad escolar segura y solidaria. \nActividades del Mes de Mayo: \n\nFecha Límite de Pago (1 al 15 de mayo): Les recordamos a los padres y tutores que el pago correspondiente al mes de mayo debe realizarse dentro de este período. Agradecemos su colaboración y puntualidad.\nCelebración del Día del Trabajador (29 de mayo): En reconocimiento a la importancia del trabajo\, no habrá docencia en este día. Invitamos a todos a reflexionar sobre el valor del trabajo y a disfrutar de este merecido descanso.\nMañanitas a las Madres y Padres (31 de mayo): Celebramos y honramos a los padres y madres por su amor y dedicación con actividades especiales y homenajes.\n\nFechas Conmemorativas: \n\nDía del Árbol (5 de mayo): Promovemos la conciencia ambiental mediante actividades que incentiven la plantación y el cuidado de los árboles.\nDía de la Cruz Roja (8 de mayo): Celebramos la labor humanitaria de la Cruz Roja y la importancia de la solidaridad y el compromiso con quienes más lo necesitan.\nDía del Agricultor (15 de mayo): Reconocemos la labor esencial de los agricultores en la producción de alimentos y en el sostenimiento de nuestras comunidades rurales.\nDía de las Madres (27 de mayo): Honramos a todas las madres por su amor\, sacrificio y dedicación con actividades especiales y homenajes.\nDía de la Libertad (30 de mayo): Celebramos la valentía de quienes lucharon por la libertad y la democracia\, reflexionando sobre la importancia de la libertad en nuestras vidas.\n\nBeneficios de la Confianza: \n\nFortalecimiento de las Relaciones: La confianza fortalece las relaciones entre estudiantes\, docentes y familias\, creando un ambiente de apoyo y colaboración.\nMejora del Rendimiento Académico: Un entorno de confianza permite a los estudiantes sentirse seguros y apoyados\, mejorando su rendimiento académico.\nDesarrollo de la Autoestima: Fomentar la confianza en uno mismo ayuda a los estudiantes a desarrollar una autoestima saludable y a enfrentar desafíos con seguridad.\nAumento de la Responsabilidad: La confianza implica ser responsable y digno de confianza\, habilidades que son valiosas en todas las áreas de la vida.\n\nInvitamos a todos los miembros de nuestra comunidad educativa a unirse a nosotros en la celebración del mes de la confianza. Trabajemos juntos para crear un entorno donde la confianza y el respeto mutuo nos guíen hacia un año escolar exitoso y lleno de logros. \n¡Feliz Mes de la Confianza! \nCon este enfoque en el valor de la confianza\, estamos seguros de que nuestros estudiantes estarán mejor preparados para enfrentar los desafíos del año escolar y desarrollarán habilidades que les servirán a lo largo de sus vidas.
URL:https://tehui.edu.do/calendario-escolar/valor-del-mes-confianza/
CATEGORIES:Valor del mes
ATTACH;FMTTYPE=image/png:https://tehui.edu.do/wp-content/uploads/2024/06/10.png
END:VEVENT
END:VCALENDAR