BEGIN:VCALENDAR
VERSION:2.0
PRODID:-//Centro educativo Tehui - ECPv6.15.13.1//NONSGML v1.0//EN
CALSCALE:GREGORIAN
METHOD:PUBLISH
X-ORIGINAL-URL:https://tehui.edu.do
X-WR-CALDESC:Eventos para Centro educativo Tehui
REFRESH-INTERVAL;VALUE=DURATION:PT1H
X-Robots-Tag:noindex
X-PUBLISHED-TTL:PT1H
BEGIN:VTIMEZONE
TZID:Europe/Madrid
BEGIN:DAYLIGHT
TZOFFSETFROM:+0100
TZOFFSETTO:+0200
TZNAME:CEST
DTSTART:20230326T010000
END:DAYLIGHT
BEGIN:STANDARD
TZOFFSETFROM:+0200
TZOFFSETTO:+0100
TZNAME:CET
DTSTART:20231029T010000
END:STANDARD
BEGIN:DAYLIGHT
TZOFFSETFROM:+0100
TZOFFSETTO:+0200
TZNAME:CEST
DTSTART:20240331T010000
END:DAYLIGHT
BEGIN:STANDARD
TZOFFSETFROM:+0200
TZOFFSETTO:+0100
TZNAME:CET
DTSTART:20241027T010000
END:STANDARD
BEGIN:DAYLIGHT
TZOFFSETFROM:+0100
TZOFFSETTO:+0200
TZNAME:CEST
DTSTART:20250330T010000
END:DAYLIGHT
BEGIN:STANDARD
TZOFFSETFROM:+0200
TZOFFSETTO:+0100
TZNAME:CET
DTSTART:20251026T010000
END:STANDARD
END:VTIMEZONE
BEGIN:VEVENT
DTSTART;VALUE=DATE:20240401
DTEND;VALUE=DATE:20240402
DTSTAMP:20260421T140324
CREATED:20240613T075446Z
LAST-MODIFIED:20240711T124142Z
UID:2224-1711929600-1712015999@tehui.edu.do
SUMMARY:Valor del mes: Generosidad
DESCRIPTION:En TEHUI\, consideramos que la generosidad es un valor fundamental para el desarrollo personal y social de nuestros estudiantes. Durante el mes de abril\, nos enfocamos en fomentar el espíritu de dar y compartir en todas nuestras actividades y relaciones. \nLa generosidad no solo implica dar recursos materiales\, sino también ofrecer nuestro tiempo\, apoyo y comprensión a quienes nos rodean. Un ambiente generoso y solidario nos permite crear una comunidad escolar más unida y empática. \nActividades del Mes de Abril: \n\nReinicio de Docencia (1 de abril): Después de las vacaciones de Semana Santa\, damos la bienvenida a nuestros estudiantes y docentes para continuar con el año escolar. Retomamos nuestras actividades con energía renovada y compromiso.\nCelebración del Día del Panamericanismo (19 de abril): Reflexionamos sobre la solidaridad y la cooperación entre los países del continente americano\, promoviendo el entendimiento y la colaboración internacional.\nClaustro de Profesores (26 de abril): Los docentes se reunirán para planificar y evaluar el progreso académico del año. La docencia será hasta el mediodía\, permitiendo a los maestros enfocarse en la mejora continua de nuestra oferta educativa.\n\nFechas Conmemorativas: \n\nDía Mundial de la Salud (7 de abril): Promovemos la conciencia sobre la salud global y la importancia de mantener hábitos saludables para el bienestar físico y mental.\nDía Panamericano (14 de abril): Celebramos la creación de la Unión Panamericana y la unidad entre los países del continente americano\, fortaleciendo los lazos culturales y económicos.\nDía de la Tierra (22 de abril): Fomentamos la protección del medio ambiente y la responsabilidad ambiental entre nuestros estudiantes\, promoviendo prácticas sostenibles.\nDía Internacional del Libro (23 de abril): Celebramos el amor por la lectura y la importancia de la alfabetización\, destacando el poder de los libros para enriquecer nuestras vidas y expandir nuestros horizontes.\n\nBeneficios de la Generosidad: \n\nFortalecimiento de la Comunidad: La generosidad crea un ambiente de apoyo mutuo y colaboración\, fortaleciendo los lazos entre estudiantes\, docentes y familias.\nDesarrollo de la Empatía: Practicar la generosidad ayuda a los estudiantes a desarrollar una mayor comprensión y compasión hacia los demás.\nPromoción de la Solidaridad: La generosidad fomenta el espíritu de solidaridad y la disposición a ayudar a quienes más lo necesitan\, creando una comunidad más justa y equitativa.\nMejora del Bienestar Personal: Ser generoso no solo beneficia a los demás\, sino que también mejora el bienestar personal al generar sentimientos de satisfacción y felicidad.\n\nInvitamos a todos los miembros de nuestra comunidad educativa a unirse a nosotros en la celebración del mes de la generosidad. Trabajemos juntos para crear un entorno donde la generosidad y el apoyo mutuo nos guíen hacia un año escolar exitoso y lleno de logros. \n¡Feliz Mes de la Generosidad! \nCon este enfoque en el valor de la generosidad\, estamos seguros de que nuestros estudiantes desarrollarán habilidades y actitudes que les servirán a lo largo de sus vidas\, contribuyendo a una sociedad más compasiva y solidaria.
URL:https://tehui.edu.do/calendario-escolar/valor-del-mes-generosidad/
CATEGORIES:Valor del mes
ATTACH;FMTTYPE=image/png:https://tehui.edu.do/wp-content/uploads/2024/06/9.png
END:VEVENT
END:VCALENDAR