BEGIN:VCALENDAR
VERSION:2.0
PRODID:-//Centro educativo Tehui - ECPv6.15.13.1//NONSGML v1.0//EN
CALSCALE:GREGORIAN
METHOD:PUBLISH
X-WR-CALNAME:Centro educativo Tehui
X-ORIGINAL-URL:https://tehui.edu.do
X-WR-CALDESC:Eventos para Centro educativo Tehui
REFRESH-INTERVAL;VALUE=DURATION:PT1H
X-Robots-Tag:noindex
X-PUBLISHED-TTL:PT1H
BEGIN:VTIMEZONE
TZID:America/Santo_Domingo
BEGIN:STANDARD
TZOFFSETFROM:-0400
TZOFFSETTO:-0400
TZNAME:AST
DTSTART:20220101T000000
END:STANDARD
END:VTIMEZONE
BEGIN:VEVENT
DTSTART;VALUE=DATE:20231201
DTEND;VALUE=DATE:20240101
DTSTAMP:20260421T204847
CREATED:20240613T075226Z
LAST-MODIFIED:20240613T130504Z
UID:2186-1701388800-1704067199@tehui.edu.do
SUMMARY:Valor del mes: Solidaridad
DESCRIPTION:En TEHUI\, creemos que la solidaridad es esencial para construir una comunidad unida y compasiva. Durante el mes de diciembre\, nos enfocamos en fomentar el valor de la solidaridad en todas nuestras actividades y relaciones. \nLa solidaridad implica ayudar a los demás\, compartir y trabajar juntos por el bienestar común. Un ambiente solidario promueve el apoyo mutuo\, la empatía y la cooperación\, creando una comunidad donde todos se sienten valorados y respaldados. \nActividades del Mes de Diciembre: \n\nFecha Límite de Pago (1 al 15 de diciembre): Les recordamos a los padres y tutores que el pago correspondiente al mes de diciembre debe realizarse dentro de este período. Agradecemos su colaboración y puntualidad.\nFiesta Navideña (20 de diciembre): Celebramos la temporada navideña con una fiesta llena de alegría y espíritu festivo. Invitamos a estudiantes\, padres y docentes a participar en actividades que fortalezcan el sentido de comunidad.\nEntrega de la Primera Evaluación (21 de diciembre): Los padres y tutores recibirán información detallada sobre el progreso académico de sus hijos. Es una oportunidad para celebrar los logros y planificar el apoyo necesario para continuar avanzando.\nVacaciones de Navidad (22 de diciembre): Comienzan las vacaciones de Navidad\, una oportunidad para que los estudiantes y el personal escolar disfruten de un merecido descanso y tiempo en familia.\n\nFechas Conmemorativas: \n\nDía de los Abuelos (1 de diciembre): Honramos y celebramos a los abuelos por su amor\, sabiduría y apoyo incondicional. Invitamos a los estudiantes a expresar su gratitud a través de actividades especiales.\nDescubrimiento de Nuestra Isla (5 de diciembre): Reflexionamos sobre la llegada de los europeos a nuestra isla y su impacto histórico\, promoviendo el respeto y la comprensión de nuestra herencia cultural.\nDía de los Derechos Humanos (10 de diciembre): Promovemos la importancia de los derechos humanos y la igualdad para todos\, realizando actividades que sensibilicen a los estudiantes sobre estos valores fundamentales.\nDía del Niño/a (24 de diciembre): Celebramos la infancia y la importancia de garantizar los derechos y el bienestar de todos los niños y niñas\, con actividades que llenen de alegría y diversión a nuestros estudiantes.\n\nBeneficios de la Solidaridad: \n\nFortalecimiento de la Comunidad: La solidaridad crea un ambiente de apoyo mutuo y colaboración\, fortaleciendo los lazos entre estudiantes\, docentes y familias.\nDesarrollo de la Empatía: Practicar la solidaridad ayuda a los estudiantes a desarrollar una mayor comprensión y compasión hacia los demás.\nPromoción de la Cooperación: La solidaridad fomenta el trabajo en equipo y la disposición a ayudar a quienes más lo necesitan\, creando una comunidad más justa y equitativa.\nMejora del Bienestar Personal: Ser solidario no solo beneficia a los demás\, sino que también mejora el bienestar personal al generar sentimientos de satisfacción y felicidad.\n\nInvitamos a todos los miembros de nuestra comunidad educativa a unirse a nosotros en la celebración del mes de la solidaridad. Trabajemos juntos para crear un entorno donde la solidaridad y el apoyo mutuo nos guíen hacia un año escolar exitoso y lleno de logros. \n¡Feliz Mes de la Solidaridad! \nCon este enfoque en el valor de la solidaridad\, estamos seguros de que nuestros estudiantes desarrollarán habilidades y actitudes que les servirán a lo largo de sus vidas\, contribuyendo a una sociedad más compasiva y solidaria.
URL:https://tehui.edu.do/calendario-escolar/valor-del-mes-solidaridad/
CATEGORIES:Valor del mes
ATTACH;FMTTYPE=image/png:https://tehui.edu.do/wp-content/uploads/2024/06/5.png
END:VEVENT
END:VCALENDAR