BEGIN:VCALENDAR
VERSION:2.0
PRODID:-//Centro educativo Tehui - ECPv6.15.13.1//NONSGML v1.0//EN
CALSCALE:GREGORIAN
METHOD:PUBLISH
X-ORIGINAL-URL:https://tehui.edu.do
X-WR-CALDESC:Eventos para Centro educativo Tehui
REFRESH-INTERVAL;VALUE=DURATION:PT1H
X-Robots-Tag:noindex
X-PUBLISHED-TTL:PT1H
BEGIN:VTIMEZONE
TZID:America/Santo_Domingo
BEGIN:STANDARD
TZOFFSETFROM:-0400
TZOFFSETTO:-0400
TZNAME:AST
DTSTART:20220101T000000
END:STANDARD
END:VTIMEZONE
BEGIN:VEVENT
DTSTART;VALUE=DATE:20230801
DTEND;VALUE=DATE:20230802
DTSTAMP:20260422T014323
CREATED:20240611T065629Z
LAST-MODIFIED:20240711T123909Z
UID:1973-1690848000-1690934399@tehui.edu.do
SUMMARY:Valor del mes: Orden
DESCRIPTION:En TEHUI\, consideramos que el orden es un pilar fundamental para el éxito académico y personal de nuestros estudiantes. Durante el mes de agosto\, nos enfocamos en inculcar el valor del orden en todas nuestras actividades y espacios. \nEl orden no solo se refiere a mantener nuestros objetos y lugares organizados\, sino también a la manera en que estructuramos nuestro tiempo y nuestras tareas diarias. Un ambiente ordenado y bien planificado nos permite trabajar de manera más eficiente\, reducir el estrés y mejorar la concentración. \nActividades del Mes de Agosto: \n\nApertura del Año Escolar (24 de agosto): Comenzamos el nuevo año académico con entusiasmo y una actitud positiva. Invitamos a todos los estudiantes y padres a participar en la jornada de apertura\, donde presentaremos los objetivos y actividades del año.\nJornada de Ambientación (24 de agosto – 1 de septiembre): Durante estos días\, realizaremos actividades para familiarizar a los estudiantes con sus nuevas aulas\, profesores y compañeros. Estableceremos rutinas y normas que facilitarán un ambiente de aprendizaje ordenado y productivo.\nDía de Colores (1 de septiembre): Celebraremos el primer día de colores del año\, una actividad divertida que fomenta la creatividad y la cohesión entre los estudiantes\, al mismo tiempo que mantenemos el orden y el respeto en el entorno escolar.\n\nFechas Conmemorativas: \n\nDía de la Restauración (16 de agosto): Recordamos y celebramos la Restauración de la República Dominicana\, promoviendo en nuestros estudiantes el sentido de la historia y la importancia de mantener el orden y la justicia en nuestra sociedad.\n\nBeneficios del Orden: \n\nMejora del Rendimiento Académico: Un entorno de estudio ordenado facilita la concentración y el enfoque\, permitiendo a los estudiantes absorber mejor la información y completar sus tareas de manera efectiva.\nReducción del Estrés: Mantener un espacio limpio y organizado ayuda a reducir la ansiedad y el estrés\, creando un ambiente más tranquilo y propicio para el aprendizaje.\nDesarrollo de la Disciplina: Aprender a mantener el orden requiere disciplina y responsabilidad\, habilidades que son valiosas en todas las áreas de la vida.\nOptimización del Tiempo: La planificación y la organización del tiempo permiten a los estudiantes gestionar mejor sus tareas y actividades\, evitando la procrastinación y mejorando la productividad.\n\nInvitamos a todos los miembros de nuestra comunidad educativa a unirse a nosotros en la celebración del mes del orden. Trabajemos juntos para crear un entorno donde el orden y la estructura nos guíen hacia un año escolar exitoso y lleno de logros. \n¡Feliz Mes del Orden! \nCon este enfoque en el valor del orden\, estamos seguros de que nuestros estudiantes estarán mejor preparados para enfrentar los desafíos del año escolar y desarrollarán habilidades que les servirán a lo largo de sus vidas.
URL:https://tehui.edu.do/calendario-escolar/valor-del-mes-orden/
CATEGORIES:Valor del mes
ATTACH;FMTTYPE=image/png:https://tehui.edu.do/wp-content/uploads/2024/06/1.png
END:VEVENT
END:VCALENDAR