BEGIN:VCALENDAR
VERSION:2.0
PRODID:-//Centro educativo Tehui - ECPv6.15.13.1//NONSGML v1.0//EN
CALSCALE:GREGORIAN
METHOD:PUBLISH
X-ORIGINAL-URL:https://tehui.edu.do
X-WR-CALDESC:Eventos para Centro educativo Tehui
REFRESH-INTERVAL;VALUE=DURATION:PT1H
X-Robots-Tag:noindex
X-PUBLISHED-TTL:PT1H
BEGIN:VTIMEZONE
TZID:Europe/Madrid
BEGIN:DAYLIGHT
TZOFFSETFROM:+0100
TZOFFSETTO:+0200
TZNAME:CEST
DTSTART:20230326T010000
END:DAYLIGHT
BEGIN:STANDARD
TZOFFSETFROM:+0200
TZOFFSETTO:+0100
TZNAME:CET
DTSTART:20231029T010000
END:STANDARD
BEGIN:DAYLIGHT
TZOFFSETFROM:+0100
TZOFFSETTO:+0200
TZNAME:CEST
DTSTART:20240331T010000
END:DAYLIGHT
BEGIN:STANDARD
TZOFFSETFROM:+0200
TZOFFSETTO:+0100
TZNAME:CET
DTSTART:20241027T010000
END:STANDARD
BEGIN:DAYLIGHT
TZOFFSETFROM:+0100
TZOFFSETTO:+0200
TZNAME:CEST
DTSTART:20250330T010000
END:DAYLIGHT
BEGIN:STANDARD
TZOFFSETFROM:+0200
TZOFFSETTO:+0100
TZNAME:CET
DTSTART:20251026T010000
END:STANDARD
END:VTIMEZONE
BEGIN:VEVENT
DTSTART;VALUE=DATE:20240101
DTEND;VALUE=DATE:20240102
DTSTAMP:20260421T172621
CREATED:20240613T075242Z
LAST-MODIFIED:20240711T124052Z
UID:2195-1704067200-1704153599@tehui.edu.do
SUMMARY:Valor del mes: Libertad
DESCRIPTION:En TEHUI\, creemos que la libertad es esencial para el desarrollo personal y académico de nuestros estudiantes. Durante el mes de enero\, nos enfocamos en inculcar el valor de la libertad en todas nuestras actividades y enseñanzas. \nLa libertad no solo implica la capacidad de tomar nuestras propias decisiones\, sino también el respeto por los derechos y libertades de los demás. Un ambiente que promueve la libertad fomenta la responsabilidad\, la autodisciplina y la creatividad. \nActividades del Mes de Enero: \n\nReinicio de Docencia (9 de enero): Damos la bienvenida a nuestros estudiantes y docentes para comenzar el nuevo año con entusiasmo y compromiso\, listos para continuar con el proceso de aprendizaje.\nFecha Límite de Pago (1 al 15 de enero): Les recordamos a los padres y tutores que el pago correspondiente al mes de enero debe realizarse dentro de este período. Agradecemos su colaboración y puntualidad.\nDía de Colores (26 de enero): Una jornada divertida para que los estudiantes expresen su creatividad y alegría a través del uso de colores y actividades lúdicas.\nAsueto Natalicio de Juan Pablo Duarte (29 de enero): En honor al natalicio de uno de los padres fundadores de la República Dominicana\, no habrá docencia. Es una oportunidad para reflexionar sobre su legado y su lucha por la libertad.\n\nFechas Conmemorativas: \n\nDía Mundial de la Alfabetización (13 de enero): Celebramos la importancia de la alfabetización como base para la libertad de pensamiento y expresión\, promoviendo actividades que incentiven la lectura y el aprendizaje.\nDía de La Altagracia (21 de enero): Una fecha para honrar a la Virgen de La Altagracia\, protectora del pueblo dominicano\, y reflexionar sobre la espiritualidad y la libertad de credo.\nDía de Juan Pablo Duarte (26 de enero): Recordamos el natalicio de Juan Pablo Duarte\, un líder clave en la lucha por la independencia dominicana\, y su contribución a la libertad y la soberanía nacional.\nDía de la Juventud (31 de enero): Celebramos el papel vital de los jóvenes en la sociedad y su capacidad para liderar cambios positivos\, promoviendo su participación activa y su empoderamiento.\n\nBeneficios de la Libertad: \n\nDesarrollo de la Autonomía: La libertad fomenta la capacidad de tomar decisiones responsables y autónomas\, preparando a los estudiantes para enfrentar los desafíos de la vida.\nEstimulación de la Creatividad: Un ambiente libre permite a los estudiantes explorar nuevas ideas y enfoques\, desarrollando su creatividad y pensamiento crítico.\nFortalecimiento de la Responsabilidad: La libertad conlleva responsabilidad\, enseñando a los estudiantes a considerar las consecuencias de sus acciones y a actuar de manera ética.\nPromoción del Respeto: La libertad implica el respeto por los derechos y libertades de los demás\, fomentando una comunidad escolar justa y equitativa.\n\nInvitamos a todos los miembros de nuestra comunidad educativa a unirse a nosotros en la celebración del mes de la libertad. Trabajemos juntos para crear un entorno donde la libertad y el respeto mutuo nos guíen hacia un año escolar exitoso y lleno de logros. \n¡Feliz Mes de la Libertad! \nCon este enfoque en el valor de la libertad\, estamos seguros de que nuestros estudiantes estarán mejor preparados para enfrentar los desafíos del año escolar y desarrollarán habilidades que les servirán a lo largo de sus vidas.
URL:https://tehui.edu.do/calendario-escolar/valor-del-mes-libertad/
CATEGORIES:Valor del mes
ATTACH;FMTTYPE=image/png:https://tehui.edu.do/wp-content/uploads/2024/06/6.png
END:VEVENT
END:VCALENDAR