BEGIN:VCALENDAR
VERSION:2.0
PRODID:-//Centro educativo Tehui - ECPv6.15.13.1//NONSGML v1.0//EN
CALSCALE:GREGORIAN
METHOD:PUBLISH
X-ORIGINAL-URL:https://tehui.edu.do
X-WR-CALDESC:Eventos para Centro educativo Tehui
REFRESH-INTERVAL;VALUE=DURATION:PT1H
X-Robots-Tag:noindex
X-PUBLISHED-TTL:PT1H
BEGIN:VTIMEZONE
TZID:Europe/Madrid
BEGIN:DAYLIGHT
TZOFFSETFROM:+0100
TZOFFSETTO:+0200
TZNAME:CEST
DTSTART:20220327T010000
END:DAYLIGHT
BEGIN:STANDARD
TZOFFSETFROM:+0200
TZOFFSETTO:+0100
TZNAME:CET
DTSTART:20221030T010000
END:STANDARD
BEGIN:DAYLIGHT
TZOFFSETFROM:+0100
TZOFFSETTO:+0200
TZNAME:CEST
DTSTART:20230326T010000
END:DAYLIGHT
BEGIN:STANDARD
TZOFFSETFROM:+0200
TZOFFSETTO:+0100
TZNAME:CET
DTSTART:20231029T010000
END:STANDARD
BEGIN:DAYLIGHT
TZOFFSETFROM:+0100
TZOFFSETTO:+0200
TZNAME:CEST
DTSTART:20240331T010000
END:DAYLIGHT
BEGIN:STANDARD
TZOFFSETFROM:+0200
TZOFFSETTO:+0100
TZNAME:CET
DTSTART:20241027T010000
END:STANDARD
END:VTIMEZONE
BEGIN:VEVENT
DTSTART;VALUE=DATE:20230901
DTEND;VALUE=DATE:20230902
DTSTAMP:20260422T000518
CREATED:20240611T084758Z
LAST-MODIFIED:20240711T123924Z
UID:2027-1693526400-1693612799@tehui.edu.do
SUMMARY:Valor del mes: La Paz
DESCRIPTION:En nuestro centro educativo\, dedicamos el mes de septiembre a promover el valor de la paz. Este mes\, nos enfocamos en enseñar a nuestros estudiantes la importancia de vivir en armonía con uno mismo y con los demás. La paz es fundamental para crear un ambiente escolar seguro y acogedor\, donde todos puedan aprender y crecer. \nActividades del Mes de Septiembre: \n\nFecha Límite de Pago (1 al 15 de septiembre): Les recordamos a los padres y tutores que el pago del mes de septiembre debe realizarse dentro de este período. Su colaboración es esencial para el buen funcionamiento de nuestra institución.\nCelebración del Día de la Paz (21 de septiembre): Realizaremos actividades especiales para conmemorar el Día Internacional de la Paz. Invitamos a todos los estudiantes a participar y a reflexionar sobre cómo podemos contribuir a un mundo más pacífico.\nDía de Colores (29 de septiembre): Culminamos el mes con una jornada de colores\, fomentando la creatividad y el trabajo en equipo entre nuestros estudiantes.\n\nFechas Conmemorativas: \n\n8 de septiembre: Día Internacional de la Alfabetización.\n21 de septiembre: Día Internacional de la Paz.\n24 de septiembre: Día de las Mercedes.\n27 de septiembre: Día de la Biblia.\n29 de septiembre: Derechos de la Niñez.\n\nBeneficios de la Paz: \n\nAmbiente Seguro y Armonioso: La paz crea un entorno en el que todos se sienten seguros y valorados\, lo que es esencial para el aprendizaje y el desarrollo personal.\nResolución de Conflictos: Enseñar a los estudiantes a resolver conflictos de manera pacífica fomenta la comprensión y el respeto mutuo.\nMejora del Bienestar: La paz contribuye a la salud mental y emocional\, ayudando a los estudiantes a sentirse tranquilos y enfocados.\nFomento de la Colaboración: Un ambiente pacífico promueve la colaboración y el trabajo en equipo\, habilidades cruciales para el éxito en la vida.\n\nInvitamos a toda nuestra comunidad educativa a unirse a nosotros en la celebración del mes de la paz. Trabajemos juntos para crear un entorno donde la paz y la armonía sean los pilares de nuestro día a día. \n¡Feliz Mes de la Paz! \nEstamos seguros de que\, al enfocar nuestros esfuerzos en el valor de la paz\, no solo mejoraremos nuestro entorno escolar\, sino que también ayudaremos a nuestros estudiantes a convertirse en ciudadanos responsables y comprometidos con un mundo más justo y pacífico.
URL:https://tehui.edu.do/calendario-escolar/valor-del-mes-la-paz/
CATEGORIES:Valor del mes
ATTACH;FMTTYPE=image/png:https://tehui.edu.do/wp-content/uploads/2024/06/2.png
END:VEVENT
END:VCALENDAR